BEGIN:VCALENDAR
VERSION:2.0
PRODID:spatie/icalendar-generator
DESCRIPTION:Events from Massachusetts State Knights of Columbus
X-WR-CALDESC:Events from Massachusetts State Knights of Columbus
REFRESH-INTERVAL;VALUE=DURATION:PT1440M
X-PUBLISHED-TTL:PT1440M
BEGIN:VTIMEZONE
TZID:Etc/GMT+0
BEGIN:STANDARD
DTSTART:20250627T190000Z
TZOFFSETFROM:+0000
TZOFFSETTO:+0000
END:STANDARD
END:VTIMEZONE
BEGIN:VTIMEZONE
TZID:UTC
BEGIN:STANDARD
DTSTART:20250727T202835Z
TZOFFSETFROM:+0000
TZOFFSETTO:+0000
END:STANDARD
END:VTIMEZONE
BEGIN:VEVENT
UID:9-9
DTSTAMP:20260423T202835Z
SUMMARY:Central Regional Meeting
LOCATION:
ORGANIZER;CN=Russ Steinbach:MAILTO:state.office@masskofc.org
DTSTART;TZID=Etc/GMT+0:20260324T190000
DTEND;TZID=Etc/GMT+0:20260324T200000
X-ALT-DESC;FMTTYPE=TEXT/HTML:Central Regional meeting will be at Shrewsbury
  Council 206 S. Quinsigamond Street
CATEGORIES:Events
URL;VALUE=URI:https://masskofc.org/mc-events/central-regional-meeting/
METHOD:PUBLISH
END:VEVENT
END:VCALENDAR