BEGIN:VCALENDAR
VERSION:2.0
PRODID:spatie/icalendar-generator
DESCRIPTION:Events from Massachusetts State Knights of Columbus
X-WR-CALDESC:Events from Massachusetts State Knights of Columbus
REFRESH-INTERVAL;VALUE=DURATION:PT1440M
X-PUBLISHED-TTL:PT1440M
BEGIN:VTIMEZONE
TZID:Etc/GMT+0
BEGIN:STANDARD
DTSTART:20250729T170000Z
TZOFFSETFROM:+0000
TZOFFSETTO:+0000
END:STANDARD
END:VTIMEZONE
BEGIN:VTIMEZONE
TZID:UTC
BEGIN:STANDARD
DTSTART:20250727T134601Z
TZOFFSETFROM:+0000
TZOFFSETTO:+0000
END:STANDARD
END:VTIMEZONE
BEGIN:VEVENT
UID:61-15
DTSTAMP:20260423T134601Z
SUMMARY:State Deputy Robert Schwarz Friendship Dinner
LOCATION:
ORGANIZER;CN=Russ Steinbach:MAILTO:state.office@masskofc.org
DTSTART;TZID=Etc/GMT+0:20260425T170000
DTEND;TZID=Etc/GMT+0:20260425T210000
X-ALT-DESC;FMTTYPE=TEXT/HTML:State Deputy Robert Schwarz Friendship Dinner 
 in Norwood more information to follow
CATEGORIES:Events
URL;VALUE=URI:https://masskofc.org/mc-events/state-deputy-robert-schwarz-fr
 iendship-dinner/
METHOD:PUBLISH
END:VEVENT
END:VCALENDAR