BEGIN:VCALENDAR
VERSION:2.0
PRODID:spatie/icalendar-generator
DESCRIPTION:Events from Massachusetts State Knights of Columbus
X-WR-CALDESC:Events from Massachusetts State Knights of Columbus
REFRESH-INTERVAL;VALUE=DURATION:PT1440M
X-PUBLISHED-TTL:PT1440M
BEGIN:VTIMEZONE
TZID:Etc/GMT+0
BEGIN:STANDARD
DTSTART:20250723T130000Z
TZOFFSETFROM:+0000
TZOFFSETTO:+0000
END:STANDARD
END:VTIMEZONE
BEGIN:VTIMEZONE
TZID:UTC
BEGIN:STANDARD
DTSTART:20250727T145153Z
TZOFFSETFROM:+0000
TZOFFSETTO:+0000
END:STANDARD
END:VTIMEZONE
BEGIN:VEVENT
UID:6-6
DTSTAMP:20260423T145153Z
SUMMARY:State Program Director Mike Kerrigan Friendship Dinner
LOCATION:
ORGANIZER;CN=Russ Steinbach:MAILTO:state.office@masskofc.org
DTSTART;TZID=Etc/GMT+0:20260419T130000
DTEND;TZID=Etc/GMT+0:20260419T140000
X-ALT-DESC;FMTTYPE=TEXT/HTML:Friendship Dinner for Mike Kerrigan 4/19/26 1:
 00pm Fr. Haley Hall at St. Mary's Church 708 Washington Street\, Holliston
 \, MA 25.00 pp\, make checks payable to Mike Kerrigan 190 Prospect Street\
 , Holliston\, MA 01746 or venmo Debra-Kerrigan-2
CATEGORIES:Events
URL;VALUE=URI:https://masskofc.org/mc-events/state-program-director-mike-ke
 rrigan-friendship-dinner/
METHOD:PUBLISH
END:VEVENT
END:VCALENDAR