BEGIN:VCALENDAR
VERSION:2.0
PRODID:spatie/icalendar-generator
DESCRIPTION:Events from Massachusetts State Knights of Columbus
X-WR-CALDESC:Events from Massachusetts State Knights of Columbus
REFRESH-INTERVAL;VALUE=DURATION:PT1440M
X-PUBLISHED-TTL:PT1440M
BEGIN:VTIMEZONE
TZID:Etc/GMT+0
BEGIN:STANDARD
DTSTART:20250702T124500Z
TZOFFSETFROM:+0000
TZOFFSETTO:+0000
END:STANDARD
END:VTIMEZONE
BEGIN:VTIMEZONE
TZID:UTC
BEGIN:STANDARD
DTSTART:20250727T163627Z
TZOFFSETFROM:+0000
TZOFFSETTO:+0000
END:STANDARD
END:VTIMEZONE
BEGIN:VEVENT
UID:52-40
DTSTAMP:20260423T163627Z
SUMMARY:Exemplification of Charity\, Unity and Fraternity
LOCATION:
ORGANIZER;CN=Russ Steinbach:MAILTO:state.office@masskofc.org
DTSTART;TZID=Etc/GMT+0:20260329T124500
DTEND;TZID=Etc/GMT+0:20260329T134500
X-ALT-DESC;FMTTYPE=TEXT/HTML:The Bishop Ruocco Council #9275 will be hostin
 g an in-person exemplification ceremony Sunday March 29\, at St. Catherine
  Church\, 107 North Main Street\, Westford\, MA 01886 start time is 1:00 p
 m candidates should arrive by 12:45\, suggested attire is business casual 
 with jacket family and friends are invited to attend please confirm that y
 ou will&amp;hellip\;
CATEGORIES:Events
URL;VALUE=URI:https://masskofc.org/mc-events/exemplification-of-charity-uni
 ty-and-fraternity-8/
METHOD:PUBLISH
END:VEVENT
END:VCALENDAR