BEGIN:VCALENDAR
VERSION:2.0
PRODID:spatie/icalendar-generator
DESCRIPTION:Events from Massachusetts State Knights of Columbus
X-WR-CALDESC:Events from Massachusetts State Knights of Columbus
REFRESH-INTERVAL;VALUE=DURATION:PT1440M
X-PUBLISHED-TTL:PT1440M
BEGIN:VTIMEZONE
TZID:Etc/GMT+0
BEGIN:STANDARD
DTSTART:20241121T184500Z
TZOFFSETFROM:+0000
TZOFFSETTO:+0000
END:STANDARD
END:VTIMEZONE
BEGIN:VTIMEZONE
TZID:UTC
BEGIN:STANDARD
DTSTART:20250727T202537Z
TZOFFSETFROM:+0000
TZOFFSETTO:+0000
END:STANDARD
END:VTIMEZONE
BEGIN:VEVENT
UID:36-28
DTSTAMP:20260423T202537Z
SUMMARY:Woosox game vs Rail Riders
LOCATION:
ORGANIZER;CN=Russ Steinbach:MAILTO:state.office@masskofc.org
DTSTART;TZID=Etc/GMT+0:20250818T184500
DTEND;TZID=Etc/GMT+0:20250818T194500
X-ALT-DESC;FMTTYPE=TEXT/HTML:FRIDAY\, JULY 18\, 2025 6:45 PM   $55.00 A T
 ICKET\, CENTERFIELD PRIVATE SECTION\, INCLUDED-ALL-YOU-CAN-EAT COME JOIN Y
 OUR BROTHER KNIGHTS AND THEIR FAMILIES AS WE ENJOY A WOOSOX GAME AT POLAR 
 PARK IN WORCESTER WITH FIREWORKS AFTER                  
                          JOIN STATE DEPUTY ROBERT 
 SCHWARZ\, AND THE STATE OFFICERS LIMITED TICKETS FIRST 75 PEOPLE.  CALL T
 HE STATE OFFICE 781-551-0628
CATEGORIES:Events
URL;VALUE=URI:https://masskofc.org/mc-events/woosox-game-vs-rail-riders/
METHOD:PUBLISH
END:VEVENT
END:VCALENDAR