BEGIN:VCALENDAR
VERSION:2.0
PRODID:spatie/icalendar-generator
DESCRIPTION:Events from Massachusetts State Knights of Columbus
X-WR-CALDESC:Events from Massachusetts State Knights of Columbus
REFRESH-INTERVAL;VALUE=DURATION:PT1440M
X-PUBLISHED-TTL:PT1440M
BEGIN:VTIMEZONE
TZID:Etc/GMT+0
BEGIN:STANDARD
DTSTART:20250219T130000Z
TZOFFSETFROM:+0000
TZOFFSETTO:+0000
END:STANDARD
END:VTIMEZONE
BEGIN:VTIMEZONE
TZID:UTC
BEGIN:STANDARD
DTSTART:20250727T200851Z
TZOFFSETFROM:+0000
TZOFFSETTO:+0000
END:STANDARD
END:VTIMEZONE
BEGIN:VEVENT
UID:35-21
DTSTAMP:20260423T200851Z
SUMMARY:4th Degree Exemplification
LOCATION:
ORGANIZER;CN=Russ Steinbach:MAILTO:state.office@masskofc.org
DTSTART;TZID=Etc/GMT+0:20251116T130000
DTEND;TZID=Etc/GMT+0:20251116T140000
X-ALT-DESC;FMTTYPE=TEXT/HTML:Worthy Faithful Comptrollers and Navigators Si
 r Knights. I am sending you Attachments and information about next exempli
 fication. I am trying to keep the price down\, so we can keep it affordabl
 e. Because of affordability\, we can have many more candidates to become 4
 th degree Members.  Candidates will be exemplified with New Exemplificat
 ion for the first time&amp;hellip\;
CATEGORIES:Exemplification of Charity Unity and Fraternity
URL;VALUE=URI:https://masskofc.org/mc-events/4th-degree-exemplification/
METHOD:PUBLISH
END:VEVENT
END:VCALENDAR