BEGIN:VCALENDAR
VERSION:2.0
PRODID:spatie/icalendar-generator
DESCRIPTION:Events from Massachusetts State Knights of Columbus
X-WR-CALDESC:Events from Massachusetts State Knights of Columbus
REFRESH-INTERVAL;VALUE=DURATION:PT1440M
X-PUBLISHED-TTL:PT1440M
BEGIN:VTIMEZONE
TZID:Etc/GMT+0
BEGIN:STANDARD
DTSTART:20250108T140000Z
TZOFFSETFROM:+0000
TZOFFSETTO:+0000
END:STANDARD
END:VTIMEZONE
BEGIN:VTIMEZONE
TZID:UTC
BEGIN:STANDARD
DTSTART:20250727T201445Z
TZOFFSETFROM:+0000
TZOFFSETTO:+0000
END:STANDARD
END:VTIMEZONE
BEGIN:VEVENT
UID:34-23
DTSTAMP:20260423T201445Z
SUMMARY:Exemplification of Charity\, Unity and Fraternity
LOCATION:
ORGANIZER;CN=Russ Steinbach:MAILTO:state.office@masskofc.org
DTSTART;TZID=Etc/GMT+0:20251005T140000
DTEND;TZID=Etc/GMT+0:20251005T150000
X-ALT-DESC;FMTTYPE=TEXT/HTML:There will be an Exemplification of Charity\, 
 Unity\, and Fraternity held in the Parish Center at the Immaculate Concept
 ion Church\, 144 East Merrimack Street\, Lowell\, MA. 01852\, on Sunday\, 
 October 5th\, 2025 at 2:00 p.m. please respond with names as soon as poss
 ible if you have candidates. Either to myself or Paul Sidari : psidari@yma
 il.
CATEGORIES:Exemplification of Charity Unity and Fraternity
URL;VALUE=URI:https://masskofc.org/mc-events/exemplification-of-charity-uni
 ty-and-fraternity/
METHOD:PUBLISH
END:VEVENT
END:VCALENDAR