BEGIN:VCALENDAR
VERSION:2.0
PRODID:spatie/icalendar-generator
DESCRIPTION:Events from Massachusetts State Knights of Columbus
X-WR-CALDESC:Events from Massachusetts State Knights of Columbus
REFRESH-INTERVAL;VALUE=DURATION:PT1440M
X-PUBLISHED-TTL:PT1440M
BEGIN:VTIMEZONE
TZID:Etc/GMT+0
BEGIN:STANDARD
DTSTART:20250121T180000Z
TZOFFSETFROM:+0000
TZOFFSETTO:+0000
END:STANDARD
END:VTIMEZONE
BEGIN:VTIMEZONE
TZID:UTC
BEGIN:STANDARD
DTSTART:20250727T185420Z
TZOFFSETFROM:+0000
TZOFFSETTO:+0000
END:STANDARD
END:VTIMEZONE
BEGIN:VEVENT
UID:33-22
DTSTAMP:20260423T185420Z
SUMMARY:State Charity Ball
LOCATION:
ORGANIZER;CN=Russ Steinbach:MAILTO:state.office@masskofc.org
DTSTART;TZID=Etc/GMT+0:20251018T180000
DTEND;TZID=Etc/GMT+0:20251018T190000
X-ALT-DESC;FMTTYPE=TEXT/HTML:Doubletree Hotel Boston/Milford
CATEGORIES:Events
URL;VALUE=URI:https://masskofc.org/mc-events/state-charity-ball/
METHOD:PUBLISH
END:VEVENT
END:VCALENDAR