BEGIN:VCALENDAR
VERSION:2.0
PRODID:spatie/icalendar-generator
DESCRIPTION:Events from Massachusetts State Knights of Columbus
X-WR-CALDESC:Events from Massachusetts State Knights of Columbus
REFRESH-INTERVAL;VALUE=DURATION:PT1440M
X-PUBLISHED-TTL:PT1440M
BEGIN:VTIMEZONE
TZID:Etc/GMT+0
BEGIN:STANDARD
DTSTART:20241122T184500Z
TZOFFSETFROM:+0000
TZOFFSETTO:+0000
END:STANDARD
END:VTIMEZONE
BEGIN:VTIMEZONE
TZID:UTC
BEGIN:STANDARD
DTSTART:20250727T212638Z
TZOFFSETFROM:+0000
TZOFFSETTO:+0000
END:STANDARD
END:VTIMEZONE
BEGIN:VEVENT
UID:30-25
DTSTAMP:20260423T212638Z
SUMMARY:Exemplification of Charity\, Unity and Fraternity
LOCATION:
ORGANIZER;CN=Russ Steinbach:MAILTO:state.office@masskofc.org
DTSTART;TZID=Etc/GMT+0:20250819T184500
DTEND;TZID=Etc/GMT+0:20250819T194500
X-ALT-DESC;FMTTYPE=TEXT/HTML:Msgr. Prevost Council #12380 in Fall River is 
 hosting an in-person exemplification on Tuesday August 19 at St Anthony of
  the Desert Church\,  300 N. Eastern Ave.\, Fall River\, 02723.  All can
 didates are requested to dress business casual. Jacket is acceptable and 
 tie is optional. The ceremony will start promptly at 7pm after the Holy H
 our. Candidates are&amp;hellip\;
CATEGORIES:Exemplification of Charity Unity and Fraternity
URL;VALUE=URI:https://masskofc.org/mc-events/exemplification-of-charity-uni
 ty-and-fraternity-3/
METHOD:PUBLISH
END:VEVENT
END:VCALENDAR