BEGIN:VCALENDAR
VERSION:2.0
PRODID:spatie/icalendar-generator
DESCRIPTION:Events from Massachusetts State Knights of Columbus
X-WR-CALDESC:Events from Massachusetts State Knights of Columbus
REFRESH-INTERVAL;VALUE=DURATION:PT1440M
X-PUBLISHED-TTL:PT1440M
BEGIN:VTIMEZONE
TZID:Etc/GMT+0
BEGIN:STANDARD
DTSTART:20250310T090000Z
TZOFFSETFROM:+0000
TZOFFSETTO:+0000
END:STANDARD
END:VTIMEZONE
BEGIN:VTIMEZONE
TZID:UTC
BEGIN:STANDARD
DTSTART:20250727T185405Z
TZOFFSETFROM:+0000
TZOFFSETTO:+0000
END:STANDARD
END:VTIMEZONE
BEGIN:VEVENT
UID:2-2
DTSTAMP:20260423T185405Z
SUMMARY:DD Mid Year Training and Christmas Party
LOCATION:
ORGANIZER;CN=Russ Steinbach:MAILTO:state.office@masskofc.org
DTSTART;TZID=Etc/GMT+0:20251205T090000
DTEND;TZID=Etc/GMT+0:20251207T100000
X-ALT-DESC;FMTTYPE=TEXT/HTML:Mid-Year DD Conference and Christmas Weekend D
 ecember 5-7\, 2025 Milford Doubletree Hotel &amp;nbsp\; Directory Christmas Pa
 rty 12/6/25
CATEGORIES:Events
URL;VALUE=URI:https://masskofc.org/mc-events/dd-mid-year-training-and-chris
 tmas-party/
METHOD:PUBLISH
END:VEVENT
END:VCALENDAR