BEGIN:VCALENDAR
VERSION:2.0
PRODID:spatie/icalendar-generator
DESCRIPTION:Events from Massachusetts State Knights of Columbus
X-WR-CALDESC:Events from Massachusetts State Knights of Columbus
REFRESH-INTERVAL;VALUE=DURATION:PT1440M
X-PUBLISHED-TTL:PT1440M
BEGIN:VTIMEZONE
TZID:Etc/GMT+0
BEGIN:STANDARD
DTSTART:20250929T150000Z
TZOFFSETFROM:+0000
TZOFFSETTO:+0000
END:STANDARD
END:VTIMEZONE
BEGIN:VTIMEZONE
TZID:UTC
BEGIN:STANDARD
DTSTART:20250727T185254Z
TZOFFSETFROM:+0000
TZOFFSETTO:+0000
END:STANDARD
END:VTIMEZONE
BEGIN:VEVENT
UID:19-18
DTSTAMP:20260423T185254Z
SUMMARY:State Golf Outing 2026
LOCATION:
ORGANIZER;CN=Russ Steinbach:MAILTO:state.office@masskofc.org
DTSTART;TZID=Etc/GMT+0:20260626T150000
DTEND;TZID=Etc/GMT+0:20260626T160000
X-ALT-DESC;FMTTYPE=TEXT/HTML:State Golf Outing will be on 6/26/26 at Wentwo
 rth Hills Country Club\, Plainville\, MA Registration 8:00 start 8:30am
CATEGORIES:Events
URL;VALUE=URI:https://masskofc.org/mc-events/state-golf-outing-2026/
METHOD:PUBLISH
END:VEVENT
END:VCALENDAR