BEGIN:VCALENDAR
VERSION:2.0
PRODID:spatie/icalendar-generator
DESCRIPTION:Events from Massachusetts State Knights of Columbus
X-WR-CALDESC:Events from Massachusetts State Knights of Columbus
REFRESH-INTERVAL;VALUE=DURATION:PT1440M
X-PUBLISHED-TTL:PT1440M
BEGIN:VTIMEZONE
TZID:Etc/GMT+0
BEGIN:STANDARD
DTSTART:20250701T093000Z
TZOFFSETFROM:+0000
TZOFFSETTO:+0000
END:STANDARD
END:VTIMEZONE
BEGIN:VTIMEZONE
TZID:UTC
BEGIN:STANDARD
DTSTART:20250727T174951Z
TZOFFSETFROM:+0000
TZOFFSETTO:+0000
END:STANDARD
END:VTIMEZONE
BEGIN:VEVENT
UID:14-12
DTSTAMP:20260423T174951Z
SUMMARY:Boston Free Throw
LOCATION:
ORGANIZER;CN=Russ Steinbach:MAILTO:state.office@masskofc.org
DTSTART;TZID=Etc/GMT+0:20260328T093000
DTEND;TZID=Etc/GMT+0:20260328T103000
X-ALT-DESC;FMTTYPE=TEXT/HTML:Boston Free Throw will be at St. Joseph's Need
 ham
CATEGORIES:Events
URL;VALUE=URI:https://masskofc.org/mc-events/boston-free-throw/
METHOD:PUBLISH
END:VEVENT
END:VCALENDAR