BEGIN:VCALENDAR
VERSION:2.0
PRODID:spatie/icalendar-generator
DESCRIPTION:Events from Massachusetts State Knights of Columbus
X-WR-CALDESC:Events from Massachusetts State Knights of Columbus
REFRESH-INTERVAL;VALUE=DURATION:PT1440M
X-PUBLISHED-TTL:PT1440M
BEGIN:VTIMEZONE
TZID:Etc/GMT+0
BEGIN:STANDARD
DTSTART:20250624T110000Z
TZOFFSETFROM:+0000
TZOFFSETTO:+0000
END:STANDARD
END:VTIMEZONE
BEGIN:VTIMEZONE
TZID:UTC
BEGIN:STANDARD
DTSTART:20250727T202911Z
TZOFFSETFROM:+0000
TZOFFSETTO:+0000
END:STANDARD
END:VTIMEZONE
BEGIN:VEVENT
UID:7-7
DTSTAMP:20260423T202911Z
SUMMARY:Free Throw South Region
LOCATION:
ORGANIZER;CN=Russ Steinbach:MAILTO:state.office@masskofc.org
DTSTART;TZID=Etc/GMT+0:20260321T110000
DTEND;TZID=Etc/GMT+0:20260321T120000
X-ALT-DESC;FMTTYPE=TEXT/HTML:South Free Throw at St. Peter's Hall Plymouth
CATEGORIES:Events
URL;VALUE=URI:https://masskofc.org/mc-events/free-throw-south-region/
METHOD:PUBLISH
END:VEVENT
END:VCALENDAR