BEGIN:VCALENDAR
VERSION:2.0
PRODID:spatie/icalendar-generator
DESCRIPTION:Events from Massachusetts State Knights of Columbus
X-WR-CALDESC:Events from Massachusetts State Knights of Columbus
REFRESH-INTERVAL;VALUE=DURATION:PT1440M
X-PUBLISHED-TTL:PT1440M
BEGIN:VTIMEZONE
TZID:Etc/GMT+0
BEGIN:STANDARD
DTSTART:20250814T183000Z
TZOFFSETFROM:+0000
TZOFFSETTO:+0000
END:STANDARD
END:VTIMEZONE
BEGIN:VTIMEZONE
TZID:UTC
BEGIN:STANDARD
DTSTART:20250727T151222Z
TZOFFSETFROM:+0000
TZOFFSETTO:+0000
END:STANDARD
END:VTIMEZONE
BEGIN:VEVENT
UID:60-45
DTSTAMP:20260423T151222Z
SUMMARY:Exemplification of Charity\, Unity and Fraternity
LOCATION:
ORGANIZER;CN=Russ Steinbach:MAILTO:state.office@masskofc.org
DTSTART;TZID=Etc/GMT+0:20260511T183000
DTEND;TZID=Etc/GMT+0:20260511T193000
X-ALT-DESC;FMTTYPE=TEXT/HTML:The Leicester Council is hosting an in person 
 exampification of Charity\, Unity &amp;amp\; Fraternity on Monday\, May 11th. 
 Candidates to arrive from 6:30 to 7 pm. Ceremony will start promptly at 7 
 pm but please call the Council to comfirm at 508 892 4528 and please provi
 de your name &amp;amp\; council you are plan to&amp;hellip\;
CATEGORIES:Events
URL;VALUE=URI:https://masskofc.org/mc-events/exemplification-of-charity-uni
 ty-and-fraternity-10/
METHOD:PUBLISH
END:VEVENT
END:VCALENDAR