BEGIN:VCALENDAR
VERSION:2.0
PRODID:spatie/icalendar-generator
DESCRIPTION:Events from Massachusetts State Knights of Columbus
X-WR-CALDESC:Events from Massachusetts State Knights of Columbus
REFRESH-INTERVAL;VALUE=DURATION:PT1440M
X-PUBLISHED-TTL:PT1440M
BEGIN:VTIMEZONE
TZID:Etc/GMT+0
BEGIN:STANDARD
DTSTART:20250710T190000Z
TZOFFSETFROM:+0000
TZOFFSETTO:+0000
END:STANDARD
END:VTIMEZONE
BEGIN:VTIMEZONE
TZID:UTC
BEGIN:STANDARD
DTSTART:20250727T150716Z
TZOFFSETFROM:+0000
TZOFFSETTO:+0000
END:STANDARD
END:VTIMEZONE
BEGIN:VEVENT
UID:59-44
DTSTAMP:20260423T150716Z
SUMMARY:Exemplification of Charity\, Unity and Fraternity
LOCATION:
ORGANIZER;CN=Russ Steinbach:MAILTO:state.office@masskofc.org
DTSTART;TZID=Etc/GMT+0:20260406T190000
DTEND;TZID=Etc/GMT+0:20260406T200000
X-ALT-DESC;FMTTYPE=TEXT/HTML:Bishop Rice Council (#4822) is hosting an onli
 ne Exemplification of Charity\, Unity and Fraternity on Monday\, April 6\,
  2026. Ceremony will start promptly at 7PM but please log in at 6:45. Be p
 repared to provide your name\, email address and Council you plan to join 
 or currently belong to. Join Zoom Meeting https://us02web.zoom.us/j/249497
 4426?pwd=SFV3eUoxeUdadUpwNEJqTXE1QTZLUT09 Meeting ID: 249&amp;hellip\;
CATEGORIES:Events
URL;VALUE=URI:https://masskofc.org/mc-events/exemplification-of-charity-uni
 ty-and-fraternity-9/
METHOD:PUBLISH
END:VEVENT
END:VCALENDAR