BEGIN:VCALENDAR
VERSION:2.0
PRODID:spatie/icalendar-generator
DESCRIPTION:Events from Massachusetts State Knights of Columbus
X-WR-CALDESC:Events from Massachusetts State Knights of Columbus
REFRESH-INTERVAL;VALUE=DURATION:PT1440M
X-PUBLISHED-TTL:PT1440M
BEGIN:VTIMEZONE
TZID:Etc/GMT+0
BEGIN:STANDARD
DTSTART:20250624T100000Z
TZOFFSETFROM:+0000
TZOFFSETTO:+0000
END:STANDARD
END:VTIMEZONE
BEGIN:VTIMEZONE
TZID:UTC
BEGIN:STANDARD
DTSTART:20250727T214135Z
TZOFFSETFROM:+0000
TZOFFSETTO:+0000
END:STANDARD
END:VTIMEZONE
BEGIN:VEVENT
UID:51-39
DTSTAMP:20260423T214135Z
SUMMARY:Exemplification of Charity\, Unity and Fraternity
LOCATION:
ORGANIZER;CN=Russ Steinbach:MAILTO:state.office@masskofc.org
DTSTART;TZID=Etc/GMT+0:20260321T100000
DTEND;TZID=Etc/GMT+0:20260321T110000
X-ALT-DESC;FMTTYPE=TEXT/HTML:St. Joseph Hall at Ascension Parish\, 106 Conc
 ord Rd\, Sudbury\, MA 01776 submit names by Thursday 3/19/26 contact Georg
 es Gemayel\,  georgesgemayel6@gmail.com
CATEGORIES:Events
URL;VALUE=URI:https://masskofc.org/mc-events/exemplification-of-charity-uni
 ty-and-fraternity-7/
METHOD:PUBLISH
END:VEVENT
END:VCALENDAR