BEGIN:VCALENDAR
VERSION:2.0
PRODID:spatie/icalendar-generator
DESCRIPTION:Events from Massachusetts State Knights of Columbus
X-WR-CALDESC:Events from Massachusetts State Knights of Columbus
REFRESH-INTERVAL;VALUE=DURATION:PT1440M
X-PUBLISHED-TTL:PT1440M
BEGIN:VTIMEZONE
TZID:Etc/GMT+0
BEGIN:STANDARD
DTSTART:20250617T130000Z
TZOFFSETFROM:+0000
TZOFFSETTO:+0000
END:STANDARD
END:VTIMEZONE
BEGIN:VTIMEZONE
TZID:UTC
BEGIN:STANDARD
DTSTART:20250727T224132Z
TZOFFSETFROM:+0000
TZOFFSETTO:+0000
END:STANDARD
END:VTIMEZONE
BEGIN:VEVENT
UID:5-5
DTSTAMP:20260423T224132Z
SUMMARY:DD Ed Butler Friendship Dinner
LOCATION:
ORGANIZER;CN=Russ Steinbach:MAILTO:state.office@masskofc.org
DTSTART;TZID=Etc/GMT+0:20260314T130000
DTEND;TZID=Etc/GMT+0:20260314T140000
X-ALT-DESC;FMTTYPE=TEXT/HTML:Testimonial Dinner for Edward Butler 3/14/26 @
  1pm at St. Mary's Church\, 56 Carpenter St. Foxboro\, MA Irish Theme\, St
 . Patrick's Dinner 30.00 pp\, make checks to Ed Butler\, mail to PO Box 31
 3\, Foxboro\, MA 02035 any questions call 508-498-9892
CATEGORIES:Events
URL;VALUE=URI:https://masskofc.org/mc-events/dd-ed-butler-friendship-dinner
 /
METHOD:PUBLISH
END:VEVENT
END:VCALENDAR