BEGIN:VCALENDAR
VERSION:2.0
PRODID:spatie/icalendar-generator
DESCRIPTION:Events from Massachusetts State Knights of Columbus
X-WR-CALDESC:Events from Massachusetts State Knights of Columbus
REFRESH-INTERVAL;VALUE=DURATION:PT1440M
X-PUBLISHED-TTL:PT1440M
BEGIN:VTIMEZONE
TZID:Etc/GMT+0
BEGIN:STANDARD
DTSTART:20250605T184600Z
TZOFFSETFROM:+0000
TZOFFSETTO:+0000
END:STANDARD
END:VTIMEZONE
BEGIN:VTIMEZONE
TZID:UTC
BEGIN:STANDARD
DTSTART:20250727T224551Z
TZOFFSETFROM:+0000
TZOFFSETTO:+0000
END:STANDARD
END:VTIMEZONE
BEGIN:VEVENT
UID:49-38
DTSTAMP:20260423T224551Z
SUMMARY:Exemplification of Charity\, Unity and Fraternity
LOCATION:
ORGANIZER;CN=Russ Steinbach:MAILTO:state.office@masskofc.org
DTSTART;TZID=Etc/GMT+0:20260302T184600
DTEND;TZID=Etc/GMT+0:20260302T194600
X-ALT-DESC;FMTTYPE=TEXT/HTML:<p>The Bishop Rice Council (#4822) is hosting 
 an online Exemplification of Charity\, Unity and Fraternity on Monday\, Ma
 rch 2\, 2026. Ceremony will start promptly at 7PM but please log in at 6:4
 5. Be prepared to provide your name\, email address and Council you plan t
 o join or currently belong to.</p>\n<p>Join Zoom Meeting<br />\nhttps://us
 02web.zoom.us/j/2494974426?pwd=SFV3eUoxeUdadUpwNEJqTXE1QTZLUT09<br />\nMee
 ting ID: 249 497 4426Passcode: 162778</p>\n
CATEGORIES:Events
URL;VALUE=URI:https://masskofc.org/mc-events/exemplification-of-charity-uni
 ty-and-fraternity-6/
METHOD:PUBLISH
END:VEVENT
END:VCALENDAR