BEGIN:VCALENDAR
VERSION:2.0
PRODID:spatie/icalendar-generator
DESCRIPTION:Events from Massachusetts State Knights of Columbus
X-WR-CALDESC:Events from Massachusetts State Knights of Columbus
REFRESH-INTERVAL;VALUE=DURATION:PT1440M
X-PUBLISHED-TTL:PT1440M
BEGIN:VTIMEZONE
TZID:Etc/GMT+0
BEGIN:STANDARD
DTSTART:20251027T170000Z
TZOFFSETFROM:+0000
TZOFFSETTO:+0000
END:STANDARD
END:VTIMEZONE
BEGIN:VTIMEZONE
TZID:UTC
BEGIN:STANDARD
DTSTART:20250727T150711Z
TZOFFSETFROM:+0000
TZOFFSETTO:+0000
END:STANDARD
END:VTIMEZONE
BEGIN:VEVENT
UID:48-20
DTSTAMP:20260423T150711Z
SUMMARY:Woosox Game vs Jacksonville Jumbo Shrimp
LOCATION:
ORGANIZER;CN=Russ Steinbach:MAILTO:state.office@masskofc.org
DTSTART;TZID=Etc/GMT+0:20260724T170000
DTEND;TZID=Etc/GMT+0:20260724T223000
X-ALT-DESC;FMTTYPE=TEXT/HTML:State Outing Annual Woosox Game vs Jacksonvill
 e Jumbo Shrimp at Polar Park\, 7/24/26 60.00 pp all you can eat in our cen
 terfield reserved box start time is 5:00pm tickets can be purchased form t
 he state office 781-551-0628
CATEGORIES:Events
URL;VALUE=URI:https://masskofc.org/mc-events/woosox-game-vs-jacksonville-ju
 mbo-shrimp/
METHOD:PUBLISH
END:VEVENT
END:VCALENDAR