BEGIN:VCALENDAR
VERSION:2.0
PRODID:spatie/icalendar-generator
DESCRIPTION:Events from Massachusetts State Knights of Columbus
X-WR-CALDESC:Events from Massachusetts State Knights of Columbus
REFRESH-INTERVAL;VALUE=DURATION:PT1440M
X-PUBLISHED-TTL:PT1440M
BEGIN:VTIMEZONE
TZID:Etc/GMT+0
BEGIN:STANDARD
DTSTART:20260310T170000Z
TZOFFSETFROM:+0000
TZOFFSETTO:+0000
END:STANDARD
END:VTIMEZONE
BEGIN:VTIMEZONE
TZID:UTC
BEGIN:STANDARD
DTSTART:20250727T150611Z
TZOFFSETFROM:+0000
TZOFFSETTO:+0000
END:STANDARD
END:VTIMEZONE
BEGIN:VEVENT
UID:45-35
DTSTAMP:20260423T150611Z
SUMMARY:DD Mid Year Training and Christmas Party
LOCATION:
ORGANIZER;CN=Russ Steinbach:MAILTO:state.office@masskofc.org
DTSTART;TZID=Etc/GMT+0:20261205T170000
DTEND;TZID=Etc/GMT+0:20261206T180000
X-ALT-DESC;FMTTYPE=TEXT/HTML:Doubletree Hotel Boston/Milford December 5-6\,
  2026
CATEGORIES:Events
URL;VALUE=URI:https://masskofc.org/mc-events/dd-mid-year-training-and-chris
 tmas-party-2/
METHOD:PUBLISH
END:VEVENT
END:VCALENDAR