BEGIN:VCALENDAR
VERSION:2.0
PRODID:spatie/icalendar-generator
DESCRIPTION:Events from Massachusetts State Knights of Columbus
X-WR-CALDESC:Events from Massachusetts State Knights of Columbus
REFRESH-INTERVAL;VALUE=DURATION:PT1440M
X-PUBLISHED-TTL:PT1440M
BEGIN:VTIMEZONE
TZID:Etc/GMT+0
BEGIN:STANDARD
DTSTART:20250603T130000Z
TZOFFSETFROM:+0000
TZOFFSETTO:+0000
END:STANDARD
END:VTIMEZONE
BEGIN:VTIMEZONE
TZID:UTC
BEGIN:STANDARD
DTSTART:20250727T214210Z
TZOFFSETFROM:+0000
TZOFFSETTO:+0000
END:STANDARD
END:VTIMEZONE
BEGIN:VEVENT
UID:43-33
DTSTAMP:20260423T214210Z
SUMMARY:Friendship Luncheon for DD Paul Sidari
LOCATION:
ORGANIZER;CN=Russ Steinbach:MAILTO:state.office@masskofc.org
DTSTART;TZID=Etc/GMT+0:20260228T130000
DTEND;TZID=Etc/GMT+0:20260228T170000
X-ALT-DESC;FMTTYPE=TEXT/HTML:Pasta/Chicken Dinner\, casual dress\, 25.00 pp
  Saturday February 28\, 2026\,  1-5pm St Mary Parish Hall 25 North Road\,
  Chelmsford\, MA 01824 RSVP by February 14\, 2026 for tickets or donations
 \, please contact\, make check payable to: Margarita Sidari 1 Manhattan Dr
 ive\, Chelmsford\, MA 01824 questions call Paul 978-729-1677 or email: psi
 dari@ymail.com &amp;nbsp\;
CATEGORIES:Events
URL;VALUE=URI:https://masskofc.org/mc-events/friendship-luncheon-for-dd-pau
 l-sidari/
METHOD:PUBLISH
END:VEVENT
END:VCALENDAR