BEGIN:VCALENDAR
VERSION:2.0
PRODID:spatie/icalendar-generator
DESCRIPTION:Events from Massachusetts State Knights of Columbus
X-WR-CALDESC:Events from Massachusetts State Knights of Columbus
REFRESH-INTERVAL;VALUE=DURATION:PT1440M
X-PUBLISHED-TTL:PT1440M
BEGIN:VTIMEZONE
TZID:Etc/GMT+0
BEGIN:STANDARD
DTSTART:20250508T184500Z
TZOFFSETFROM:+0000
TZOFFSETTO:+0000
END:STANDARD
END:VTIMEZONE
BEGIN:VTIMEZONE
TZID:UTC
BEGIN:STANDARD
DTSTART:20250727T202543Z
TZOFFSETFROM:+0000
TZOFFSETTO:+0000
END:STANDARD
END:VTIMEZONE
BEGIN:VEVENT
UID:42-32
DTSTAMP:20260423T202543Z
SUMMARY:Exemplification of Charity\, Unity and Fraternity
LOCATION:
ORGANIZER;CN=Russ Steinbach:MAILTO:state.office@masskofc.org
DTSTART;TZID=Etc/GMT+0:20260202T184500
DTEND;TZID=Etc/GMT+0:20260202T194500
X-ALT-DESC;FMTTYPE=TEXT/HTML:Bishop Rice Council is hosting a Exemplificati
 on ceremony by Zoom link below please log in at 6:45 it will start at 7pm 
 https://us02web.zoom.us/j/2494974426?pwd=SFV3eUoxeUdadUpwNEJqTXE1QTZLUT09 
 Meeting ID: 249 497 4426 Passcode: 162778 Be prepared to provide your name
 \, email address and council you plan to join or currently belong to.
CATEGORIES:Events
URL;VALUE=URI:https://masskofc.org/mc-events/exemplification-of-charity-uni
 ty-and-fraternity-5/
METHOD:PUBLISH
END:VEVENT
END:VCALENDAR