BEGIN:VCALENDAR
VERSION:2.0
PRODID:spatie/icalendar-generator
DESCRIPTION:Events from Massachusetts State Knights of Columbus
X-WR-CALDESC:Events from Massachusetts State Knights of Columbus
REFRESH-INTERVAL;VALUE=DURATION:PT1440M
X-PUBLISHED-TTL:PT1440M
BEGIN:VTIMEZONE
TZID:Etc/GMT+0
BEGIN:STANDARD
DTSTART:20240929T180000Z
TZOFFSETFROM:+0000
TZOFFSETTO:+0000
END:STANDARD
END:VTIMEZONE
BEGIN:VTIMEZONE
TZID:UTC
BEGIN:STANDARD
DTSTART:20250727T175555Z
TZOFFSETFROM:+0000
TZOFFSETTO:+0000
END:STANDARD
END:VTIMEZONE
BEGIN:VEVENT
UID:41-31
DTSTAMP:20260423T175555Z
SUMMARY:Past State Officers Dinner
LOCATION:
ORGANIZER;CN=Russ Steinbach:MAILTO:state.office@masskofc.org
DTSTART;TZID=Etc/GMT+0:20250626T180000
DTEND;TZID=Etc/GMT+0:20250626T190000
X-ALT-DESC;FMTTYPE=TEXT/HTML:to be held at\, Envision Hotel Mansfield 31 Ha
 mpshire Street Mansfield\, MA  dinner starts 6:00\, cost is 50.00 contact
  state office for tickets
CATEGORIES:Events
URL;VALUE=URI:https://masskofc.org/mc-events/past-state-officers-dinner-2/
METHOD:PUBLISH
END:VEVENT
END:VCALENDAR