BEGIN:VCALENDAR
VERSION:2.0
PRODID:spatie/icalendar-generator
DESCRIPTION:Events from Massachusetts State Knights of Columbus
X-WR-CALDESC:Events from Massachusetts State Knights of Columbus
REFRESH-INTERVAL;VALUE=DURATION:PT1440M
X-PUBLISHED-TTL:PT1440M
BEGIN:VTIMEZONE
TZID:Etc/GMT+0
BEGIN:STANDARD
DTSTART:20240930T080000Z
TZOFFSETFROM:+0000
TZOFFSETTO:+0000
END:STANDARD
END:VTIMEZONE
BEGIN:VTIMEZONE
TZID:UTC
BEGIN:STANDARD
DTSTART:20250727T173345Z
TZOFFSETFROM:+0000
TZOFFSETTO:+0000
END:STANDARD
END:VTIMEZONE
BEGIN:VEVENT
UID:39-29
DTSTAMP:20260423T173345Z
SUMMARY:State Golf Outing
LOCATION:
ORGANIZER;CN=Russ Steinbach:MAILTO:state.office@masskofc.org
DTSTART;TZID=Etc/GMT+0:20250627T080000
DTEND;TZID=Etc/GMT+0:20250627T090000
X-ALT-DESC;FMTTYPE=TEXT/HTML:to be held at\, Wentworth Hills Country Club 2
 7 Bow street Plainville\, MA 02762 cost 125.00 pp shotgun start\, registra
 tion 8:00\, start time 8:30 18 holes\, cart and lunch hole sponsors availa
 ble 100.00 contact state office
CATEGORIES:Events
URL;VALUE=URI:https://masskofc.org/mc-events/state-golf-outing/
METHOD:PUBLISH
END:VEVENT
END:VCALENDAR