BEGIN:VCALENDAR
VERSION:2.0
PRODID:spatie/icalendar-generator
DESCRIPTION:Events from Massachusetts State Knights of Columbus
X-WR-CALDESC:Events from Massachusetts State Knights of Columbus
REFRESH-INTERVAL;VALUE=DURATION:PT1440M
X-PUBLISHED-TTL:PT1440M
BEGIN:VTIMEZONE
TZID:Etc/GMT+0
BEGIN:STANDARD
DTSTART:20241121T181500Z
TZOFFSETFROM:+0000
TZOFFSETTO:+0000
END:STANDARD
END:VTIMEZONE
BEGIN:VTIMEZONE
TZID:UTC
BEGIN:STANDARD
DTSTART:20250727T175140Z
TZOFFSETFROM:+0000
TZOFFSETTO:+0000
END:STANDARD
END:VTIMEZONE
BEGIN:VEVENT
UID:31-26
DTSTAMP:20260423T175140Z
SUMMARY:Exemplification of Charity\, Unity and Fraternity
LOCATION:
ORGANIZER;CN=Russ Steinbach:MAILTO:state.office@masskofc.org
DTSTART;TZID=Etc/GMT+0:20250818T181500
DTEND;TZID=Etc/GMT+0:20250818T191500
X-ALT-DESC;FMTTYPE=TEXT/HTML:Bishop Roucco council (9275) in Chelmsford is 
 hosting an in-person exemplification on Monday August 18 at the Paul Cente
 r in Chelmsford.  Address is 39 Concord Road\, Chelmsford.  All candidat
 es are requested to dress business casual.  Jacket is acceptable and tie 
 is optional.  The ceremony will start promptly at 6:30.  Candidates are 
 requested to be there&amp;hellip\;
CATEGORIES:Exemplification of Charity Unity and Fraternity
URL;VALUE=URI:https://masskofc.org/mc-events/exemplification-of-charity-uni
 ty-and-fraternity-4/
METHOD:PUBLISH
END:VEVENT
END:VCALENDAR