BEGIN:VCALENDAR
VERSION:2.0
PRODID:spatie/icalendar-generator
DESCRIPTION:Events from Massachusetts State Knights of Columbus
X-WR-CALDESC:Events from Massachusetts State Knights of Columbus
REFRESH-INTERVAL;VALUE=DURATION:PT1440M
X-PUBLISHED-TTL:PT1440M
BEGIN:VTIMEZONE
TZID:Etc/GMT+0
BEGIN:STANDARD
DTSTART:20250610T083000Z
TZOFFSETFROM:+0000
TZOFFSETTO:+0000
END:STANDARD
END:VTIMEZONE
BEGIN:VTIMEZONE
TZID:UTC
BEGIN:STANDARD
DTSTART:20250728T000312Z
TZOFFSETFROM:+0000
TZOFFSETTO:+0000
END:STANDARD
END:VTIMEZONE
BEGIN:VEVENT
UID:3-3
DTSTAMP:20260424T000312Z
SUMMARY:Free Throw for Central Basketball Nichols College
LOCATION:
ORGANIZER;CN=Russ Steinbach:MAILTO:state.office@masskofc.org
DTSTART;TZID=Etc/GMT+0:20260307T083000
DTEND;TZID=Etc/GMT+0:20260307T093000
X-ALT-DESC;FMTTYPE=TEXT/HTML:Central Free Throw at Nichols College start ti
 me registration 8:30am
CATEGORIES:Events
URL;VALUE=URI:https://masskofc.org/mc-events/free-throw-for-central-basketb
 all-nichols-college/
METHOD:PUBLISH
END:VEVENT
END:VCALENDAR