BEGIN:VCALENDAR
VERSION:2.0
PRODID:spatie/icalendar-generator
DESCRIPTION:Events from Massachusetts State Knights of Columbus
X-WR-CALDESC:Events from Massachusetts State Knights of Columbus
REFRESH-INTERVAL;VALUE=DURATION:PT1440M
X-PUBLISHED-TTL:PT1440M
BEGIN:VTIMEZONE
TZID:Etc/GMT+0
BEGIN:STANDARD
DTSTART:20241219T190000Z
TZOFFSETFROM:+0000
TZOFFSETTO:+0000
END:STANDARD
END:VTIMEZONE
BEGIN:VTIMEZONE
TZID:UTC
BEGIN:STANDARD
DTSTART:20250727T185639Z
TZOFFSETFROM:+0000
TZOFFSETTO:+0000
END:STANDARD
END:VTIMEZONE
BEGIN:VEVENT
UID:29-24
DTSTAMP:20260423T185639Z
SUMMARY:Exemplification of Charity\, Unity and Fraternity
LOCATION:
ORGANIZER;CN=Russ Steinbach:MAILTO:state.office@masskofc.org
DTSTART;TZID=Etc/GMT+0:20250915T190000
DTEND;TZID=Etc/GMT+0:20250915T200000
X-ALT-DESC;FMTTYPE=TEXT/HTML:The Bishop Rice Council (#4822) is hosting an 
 online Exemplification of Charity\, Unity and Fraternity on Monday\, Septe
 mber 15\, 2025. Ceremony will start promptly at 7PM but please log in at 6
 :45. Be prepared to provide your name\, email address and Council you plan
  to join or currently belong to. &amp;nbsp\; Join Zoom Meeting https://us02web
 .zoom.us/j/2494974426?pwd=SFV3eUoxeUdadUpwNEJqTXE1QTZLUT09 &amp;hellip\;
CATEGORIES:Exemplification of Charity Unity and Fraternity
URL;VALUE=URI:https://masskofc.org/mc-events/exemplification-of-charity-uni
 ty-and-fraternity-2/
METHOD:PUBLISH
END:VEVENT
END:VCALENDAR