BEGIN:VCALENDAR
VERSION:2.0
PRODID:spatie/icalendar-generator
DESCRIPTION:Events from Massachusetts State Knights of Columbus
X-WR-CALDESC:Events from Massachusetts State Knights of Columbus
REFRESH-INTERVAL;VALUE=DURATION:PT1440M
X-PUBLISHED-TTL:PT1440M
BEGIN:VTIMEZONE
TZID:Etc/GMT+0
BEGIN:STANDARD
DTSTART:20251013T170000Z
TZOFFSETFROM:+0000
TZOFFSETTO:+0000
END:STANDARD
END:VTIMEZONE
BEGIN:VTIMEZONE
TZID:UTC
BEGIN:STANDARD
DTSTART:20250727T161908Z
TZOFFSETFROM:+0000
TZOFFSETTO:+0000
END:STANDARD
END:VTIMEZONE
BEGIN:VEVENT
UID:20-19
DTSTAMP:20260423T161908Z
SUMMARY:District Deputy/ Grand Knight Summer Leadership Conference
LOCATION:
ORGANIZER;CN=Russ Steinbach:MAILTO:state.office@masskofc.org
DTSTART;TZID=Etc/GMT+0:20260710T170000
DTEND;TZID=Etc/GMT+0:20260711T180000
X-ALT-DESC;FMTTYPE=TEXT/HTML:Summer Leadership Conference will be at Wellsw
 orth Hotel\, Southbridge\, Ma more information coming soon
CATEGORIES:Events
URL;VALUE=URI:https://masskofc.org/mc-events/district-deputy-grand-knight-s
 ummer-leadership-conference/
METHOD:PUBLISH
END:VEVENT
END:VCALENDAR