BEGIN:VCALENDAR
VERSION:2.0
PRODID:spatie/icalendar-generator
DESCRIPTION:Events from Massachusetts State Knights of Columbus
X-WR-CALDESC:Events from Massachusetts State Knights of Columbus
REFRESH-INTERVAL;VALUE=DURATION:PT1440M
X-PUBLISHED-TTL:PT1440M
BEGIN:VTIMEZONE
TZID:Etc/GMT+0
BEGIN:STANDARD
DTSTART:20250914T150000Z
TZOFFSETFROM:+0000
TZOFFSETTO:+0000
END:STANDARD
END:VTIMEZONE
BEGIN:VTIMEZONE
TZID:UTC
BEGIN:STANDARD
DTSTART:20250727T162625Z
TZOFFSETFROM:+0000
TZOFFSETTO:+0000
END:STANDARD
END:VTIMEZONE
BEGIN:VEVENT
UID:18-17
DTSTAMP:20260423T162625Z
SUMMARY:Past State Officers Dinner
LOCATION:
ORGANIZER;CN=Russ Steinbach:MAILTO:state.office@masskofc.org
DTSTART;TZID=Etc/GMT+0:20260611T150000
DTEND;TZID=Etc/GMT+0:20260611T160000
X-ALT-DESC;FMTTYPE=TEXT/HTML:Past State Officers Dinner will be held at Joh
 n Boyle O'Reilly Council 17 Willow Street\, Westborough\, MA  on 6/11/26 
 at 3pm tickets on sale from the State Office 781-551-0628\, 50.00 pp
CATEGORIES:Events
URL;VALUE=URI:https://masskofc.org/mc-events/past-state-officers-dinner/
METHOD:PUBLISH
END:VEVENT
END:VCALENDAR