BEGIN:VCALENDAR
VERSION:2.0
PRODID:spatie/icalendar-generator
DESCRIPTION:Events from Massachusetts State Knights of Columbus
X-WR-CALDESC:Events from Massachusetts State Knights of Columbus
REFRESH-INTERVAL;VALUE=DURATION:PT1440M
X-PUBLISHED-TTL:PT1440M
BEGIN:VTIMEZONE
TZID:Etc/GMT+0
BEGIN:STANDARD
DTSTART:20250818T170000Z
TZOFFSETFROM:+0000
TZOFFSETTO:+0000
END:STANDARD
END:VTIMEZONE
BEGIN:VTIMEZONE
TZID:UTC
BEGIN:STANDARD
DTSTART:20250727T163428Z
TZOFFSETFROM:+0000
TZOFFSETTO:+0000
END:STANDARD
END:VTIMEZONE
BEGIN:VEVENT
UID:17-16
DTSTAMP:20260423T163428Z
SUMMARY:Massachusetts State Convention
LOCATION:
ORGANIZER;CN=Russ Steinbach:MAILTO:state.office@masskofc.org
DTSTART;TZID=Etc/GMT+0:20260515T170000
DTEND;TZID=Etc/GMT+0:20260517T180000
X-ALT-DESC;FMTTYPE=TEXT/HTML:Massachusetts State Convention\, May 15-16-17\
 , 2026 Margaritaville Resort\, Cape Cod Room packages will be out soon\, p
 lease wait for the notice before trying to book
CATEGORIES:Events
URL;VALUE=URI:https://masskofc.org/mc-events/massachusetts-state-convention
 /
METHOD:PUBLISH
END:VEVENT
END:VCALENDAR