BEGIN:VCALENDAR
VERSION:2.0
PRODID:spatie/icalendar-generator
DESCRIPTION:Events from Massachusetts State Knights of Columbus
X-WR-CALDESC:Events from Massachusetts State Knights of Columbus
REFRESH-INTERVAL;VALUE=DURATION:PT1440M
X-PUBLISHED-TTL:PT1440M
BEGIN:VTIMEZONE
TZID:Etc/GMT+0
BEGIN:STANDARD
DTSTART:20250724T183000Z
TZOFFSETFROM:+0000
TZOFFSETTO:+0000
END:STANDARD
END:VTIMEZONE
BEGIN:VTIMEZONE
TZID:UTC
BEGIN:STANDARD
DTSTART:20250727T145116Z
TZOFFSETFROM:+0000
TZOFFSETTO:+0000
END:STANDARD
END:VTIMEZONE
BEGIN:VEVENT
UID:15-14
DTSTAMP:20260423T145116Z
SUMMARY:2026 Lantern Award
LOCATION:The Renaissance Framingham Hotel &amp;amp\; Conference Center 1657 Wor
 cester Road  Framingham MA 01701
ORGANIZER;CN=Russ Steinbach:MAILTO:state.office@masskofc.org
DTSTART;TZID=Etc/GMT+0:20260420T183000
DTEND;TZID=Etc/GMT+0:20260420T193000
X-ALT-DESC;FMTTYPE=TEXT/HTML:2026 Lantern Award recipient this year is Arch
 bishop Richard G. Henning at Sheraton Framingham\, the new name of the hot
 el is Renaissance Framingham Hotel &amp;amp\; Conference Center tickets on sal
 e from the State Office 781-551-0628\, 65.00 pp reception is 6:00-7:00pm\,
  dinner starts at 7:00pm
CATEGORIES:Events
URL;VALUE=URI:https://masskofc.org/mc-events/2026-lantern-award/
METHOD:PUBLISH
END:VEVENT
END:VCALENDAR